BEGIN:VCALENDAR
VERSION:2.0
PRODID:-//Southampton Property Association - ECPv6.15.19//NONSGML v1.0//EN
CALSCALE:GREGORIAN
METHOD:PUBLISH
X-ORIGINAL-URL:https://southamptonpropertyassociation.co.uk
X-WR-CALDESC:Events for Southampton Property Association
REFRESH-INTERVAL;VALUE=DURATION:PT1H
X-Robots-Tag:noindex
X-PUBLISHED-TTL:PT1H
BEGIN:VTIMEZONE
TZID:Europe/London
BEGIN:DAYLIGHT
TZOFFSETFROM:+0000
TZOFFSETTO:+0100
TZNAME:BST
DTSTART:20220327T010000
END:DAYLIGHT
BEGIN:STANDARD
TZOFFSETFROM:+0100
TZOFFSETTO:+0000
TZNAME:GMT
DTSTART:20221030T010000
END:STANDARD
BEGIN:DAYLIGHT
TZOFFSETFROM:+0000
TZOFFSETTO:+0100
TZNAME:BST
DTSTART:20230326T010000
END:DAYLIGHT
BEGIN:STANDARD
TZOFFSETFROM:+0100
TZOFFSETTO:+0000
TZNAME:GMT
DTSTART:20231029T010000
END:STANDARD
BEGIN:DAYLIGHT
TZOFFSETFROM:+0000
TZOFFSETTO:+0100
TZNAME:BST
DTSTART:20240331T010000
END:DAYLIGHT
BEGIN:STANDARD
TZOFFSETFROM:+0100
TZOFFSETTO:+0000
TZNAME:GMT
DTSTART:20241027T010000
END:STANDARD
END:VTIMEZONE
BEGIN:VEVENT
DTSTART;TZID=Europe/London:20231129T150000
DTEND;TZID=Europe/London:20231129T180000
DTSTAMP:20260422T140006
CREATED:20231002T124423Z
LAST-MODIFIED:20231002T124847Z
UID:1975-1701270000-1701280800@southamptonpropertyassociation.co.uk
SUMMARY:Speed Networking for the next generation of property and construction professionals
DESCRIPTION:Following the success of our second event\, we are thrilled to announce the next instalment of the SPA and Omnia Consulting  Speed Networking event! This will be hosted in November 2023\, kindly sponsored by Dutton Gregory Solicitors. \nAs with our previous two events\, our Speed Networking is designed to be a relaxed and welcoming space for the next generation of property professionals to practice their networking skills and meet likeminded people from across the industry. Our tried-and-tested structured speed networking format has been a great success previously\, and our venue lends itself to a fantastic afternoon. Leadership Coach Astrid Davies is back once again to provide networking hints and tips\, which can be carried forward to future networking opportunities. \nWith arrivals from 3.05pm\, the event will start promptly at 3.15pm on Wednesday 29th November 2023 at the The Grand\, 1 South Western House\, Southampton\, SO14 3AS. The price of the ticket includes tea\, coffee\, and cake. \nSolent Speed Networking Tickets\, Wed 29 Nov 2023 at 15:05 | Eventbrite \nCome and join us to expand your network and meet fellow property and construction professionals from across the industry. \n 
URL:https://southamptonpropertyassociation.co.uk/event/speed-networking-for-the-next-generation-of-property-and-construction-professionals-2/
LOCATION:The Grand\, Terminus Terrace\, Southampton\, SO14 3AS\, United Kingdom
ATTACH;FMTTYPE=image/jpeg:https://southamptonpropertyassociation.co.uk/wp-content/uploads/2023/01/Speed-networking-1.jpg
END:VEVENT
END:VCALENDAR