BEGIN:VCALENDAR
VERSION:2.0
PRODID:-//Southampton Property Association - ECPv6.15.19//NONSGML v1.0//EN
CALSCALE:GREGORIAN
METHOD:PUBLISH
X-WR-CALNAME:Southampton Property Association
X-ORIGINAL-URL:https://southamptonpropertyassociation.co.uk
X-WR-CALDESC:Events for Southampton Property Association
REFRESH-INTERVAL;VALUE=DURATION:PT1H
X-Robots-Tag:noindex
X-PUBLISHED-TTL:PT1H
BEGIN:VTIMEZONE
TZID:Europe/London
BEGIN:DAYLIGHT
TZOFFSETFROM:+0000
TZOFFSETTO:+0100
TZNAME:BST
DTSTART:20220327T010000
END:DAYLIGHT
BEGIN:STANDARD
TZOFFSETFROM:+0100
TZOFFSETTO:+0000
TZNAME:GMT
DTSTART:20221030T010000
END:STANDARD
BEGIN:DAYLIGHT
TZOFFSETFROM:+0000
TZOFFSETTO:+0100
TZNAME:BST
DTSTART:20230326T010000
END:DAYLIGHT
BEGIN:STANDARD
TZOFFSETFROM:+0100
TZOFFSETTO:+0000
TZNAME:GMT
DTSTART:20231029T010000
END:STANDARD
BEGIN:DAYLIGHT
TZOFFSETFROM:+0000
TZOFFSETTO:+0100
TZNAME:BST
DTSTART:20240331T010000
END:DAYLIGHT
BEGIN:STANDARD
TZOFFSETFROM:+0100
TZOFFSETTO:+0000
TZNAME:GMT
DTSTART:20241027T010000
END:STANDARD
END:VTIMEZONE
BEGIN:VEVENT
DTSTART;TZID=Europe/London:20231221T163000
DTEND;TZID=Europe/London:20231221T183000
DTSTAMP:20260422T135851
CREATED:20231127T151149Z
LAST-MODIFIED:20231127T151359Z
UID:2053-1703176200-1703183400@southamptonpropertyassociation.co.uk
SUMMARY:SPA Xmas Frolics - Thursday 21st December 2023
DESCRIPTION:We look forward to welcoming you to Xmas  Frolics event on Thursday 21st December 2023 between 16.30 and 18.30 to be held at the Reflections Design Gallery (Coffeology)\, No. 1 Vincents’ Walk\, Vincent Place\, Southampton\, SO14 1JY. \nXmas Jumpers optional. \n  \n \n 
URL:https://southamptonpropertyassociation.co.uk/event/date-for-your-diary-xmas-frolics/
LOCATION:Reflections Design Gallery\, No. 1 Vincent's Walk\, Vincent Place\, Southampton\, SO14 1JY
ATTACH;FMTTYPE=image/jpeg:https://southamptonpropertyassociation.co.uk/wp-content/uploads/2023/01/SPA-Event-1.jpg
END:VEVENT
END:VCALENDAR