BEGIN:VCALENDAR
VERSION:2.0
PRODID:-//Southampton Property Association - ECPv6.15.19//NONSGML v1.0//EN
CALSCALE:GREGORIAN
METHOD:PUBLISH
X-ORIGINAL-URL:https://southamptonpropertyassociation.co.uk
X-WR-CALDESC:Events for Southampton Property Association
REFRESH-INTERVAL;VALUE=DURATION:PT1H
X-Robots-Tag:noindex
X-PUBLISHED-TTL:PT1H
BEGIN:VTIMEZONE
TZID:Europe/London
BEGIN:DAYLIGHT
TZOFFSETFROM:+0000
TZOFFSETTO:+0100
TZNAME:BST
DTSTART:20230326T010000
END:DAYLIGHT
BEGIN:STANDARD
TZOFFSETFROM:+0100
TZOFFSETTO:+0000
TZNAME:GMT
DTSTART:20231029T010000
END:STANDARD
BEGIN:DAYLIGHT
TZOFFSETFROM:+0000
TZOFFSETTO:+0100
TZNAME:BST
DTSTART:20240331T010000
END:DAYLIGHT
BEGIN:STANDARD
TZOFFSETFROM:+0100
TZOFFSETTO:+0000
TZNAME:GMT
DTSTART:20241027T010000
END:STANDARD
BEGIN:DAYLIGHT
TZOFFSETFROM:+0000
TZOFFSETTO:+0100
TZNAME:BST
DTSTART:20250330T010000
END:DAYLIGHT
BEGIN:STANDARD
TZOFFSETFROM:+0100
TZOFFSETTO:+0000
TZNAME:GMT
DTSTART:20251026T010000
END:STANDARD
END:VTIMEZONE
BEGIN:VEVENT
DTSTART;TZID=Europe/London:20240219T173000
DTEND;TZID=Europe/London:20240219T200000
DTSTAMP:20260422T104952
CREATED:20240201T160708Z
LAST-MODIFIED:20240201T161458Z
UID:2099-1708363800-1708372800@southamptonpropertyassociation.co.uk
SUMMARY:Construction Case Law Practical Update
DESCRIPTION:Join Lester Aldridge and the BPA (Bournemouth Property Association) on Monday 19th February 2024 for their Construction Case Law Practical Update and learn first hand practical tips that you can implement straightaway. \nDelivered by members of their Real Estate Team\, the following topics will be covered: \n\nGetting your contracts right\nSurprising developments in adjudication\nIs you project a “construction operation”?\nWhere are we with true value adjudications?\nDo you have to mediate?\nWhat are your inspection duties?\nWhat is a condition precedent?\n\nThe event starts at 5.30pm with a drink on arrival and the presentations starting at 6pm\, followed by drinks\, nibbles and networking from 7.15pm onwards. The speakers are: \n\nStephen Rockhill – Consultant\n\n\nRachel Gimson – Partner\n\n\nAmy Lewis – Solicitor\n\n\nEstelle Boullet – Paralegal\n\n  \nCLICK here to book your free place via the Lester Aldridge website
URL:https://southamptonpropertyassociation.co.uk/event/construction-case-law-practical-update/
LOCATION:Lester Aldridge\, Mountbatten House\, 1 Grosvenor Square\, Southampton\, Select a State or Province:\, SO15 2JU\, United Kingdom
END:VEVENT
END:VCALENDAR