BEGIN:VCALENDAR
VERSION:2.0
PRODID:-//Southampton Property Association - ECPv6.15.19//NONSGML v1.0//EN
CALSCALE:GREGORIAN
METHOD:PUBLISH
X-WR-CALNAME:Southampton Property Association
X-ORIGINAL-URL:https://southamptonpropertyassociation.co.uk
X-WR-CALDESC:Events for Southampton Property Association
REFRESH-INTERVAL;VALUE=DURATION:PT1H
X-Robots-Tag:noindex
X-PUBLISHED-TTL:PT1H
BEGIN:VTIMEZONE
TZID:Europe/London
BEGIN:DAYLIGHT
TZOFFSETFROM:+0000
TZOFFSETTO:+0100
TZNAME:BST
DTSTART:20230326T010000
END:DAYLIGHT
BEGIN:STANDARD
TZOFFSETFROM:+0100
TZOFFSETTO:+0000
TZNAME:GMT
DTSTART:20231029T010000
END:STANDARD
BEGIN:DAYLIGHT
TZOFFSETFROM:+0000
TZOFFSETTO:+0100
TZNAME:BST
DTSTART:20240331T010000
END:DAYLIGHT
BEGIN:STANDARD
TZOFFSETFROM:+0100
TZOFFSETTO:+0000
TZNAME:GMT
DTSTART:20241027T010000
END:STANDARD
BEGIN:DAYLIGHT
TZOFFSETFROM:+0000
TZOFFSETTO:+0100
TZNAME:BST
DTSTART:20250330T010000
END:DAYLIGHT
BEGIN:STANDARD
TZOFFSETFROM:+0100
TZOFFSETTO:+0000
TZNAME:GMT
DTSTART:20251026T010000
END:STANDARD
END:VTIMEZONE
BEGIN:VEVENT
DTSTART;TZID=Europe/London:20240222T073000
DTEND;TZID=Europe/London:20240222T100000
DTSTAMP:20260422T104911
CREATED:20240215T113746Z
LAST-MODIFIED:20240215T113915Z
UID:2135-1708587000-1708596000@southamptonpropertyassociation.co.uk
SUMMARY:Does it Pay to go Green?
DESCRIPTION:Does it Pay to go Green? Panel Discussion \nIn a world increasingly focused on sustainability\, Omega RE and Southampton Chamber of Commerce invites you to participate in a crucial discussion on navigating this conscientious era. \nJoin us and industry leaders for a compelling panel discussion on the imperative of sustainability in attracting new clients\, tenants and employees. > \nAgenda: \n7.45 am: Arrival and Breakfast networking. \n8.30 am: Introduction& Hear from our charity partner EDT Trust. \n8.45 am: Panel discussion led by Omega RE MD\, Nella Pang featuring industry leaders \nFrom HSBC\, Trustek PropTech Consultants\, The Pollinator & Sillence Hurn. \n9.30 am: Your questions answered. \n9.40 am: Discussion concludes. \n10.00 am: Event close. \n  \nIn our ever more conscientious society\, sustainability is not a luxury but a necessity. \nDiscover insights from esteemed panellists on implementing green initiatives\, green loans\, and the practicality of being environmentally conscious in commercial businesses. \nAdditionally\, Omega RE are thrilled to share that they have recently achieved B Corp certification\, a testament to their commitment to sustainability. Celebrate with them as they share their B Corp journey with you. \nAs businesses strive to attract new clients\, tenants\, and employees\, embracing sustainability is not merely a nice to have but an essential aspect of corporate identity. \n  \nRSVP by 19 February 2024 \n To secure your spot and gain valuable perspectives on integrating sustainability seamlessly into your business strategy. \nClick on this link to reserve your space:  www.tickettailor.com/events/omegare/1138073 \n 
URL:https://southamptonpropertyassociation.co.uk/event/does-it-pay-to-go-green/
LOCATION:Winchester Science Centre & Planetarium\, SO21 1HZ\, United Kingdom
END:VEVENT
END:VCALENDAR