BEGIN:VCALENDAR
VERSION:2.0
PRODID:-//Southampton Property Association - ECPv6.15.19//NONSGML v1.0//EN
CALSCALE:GREGORIAN
METHOD:PUBLISH
X-WR-CALNAME:Southampton Property Association
X-ORIGINAL-URL:https://southamptonpropertyassociation.co.uk
X-WR-CALDESC:Events for Southampton Property Association
REFRESH-INTERVAL;VALUE=DURATION:PT1H
X-Robots-Tag:noindex
X-PUBLISHED-TTL:PT1H
BEGIN:VTIMEZONE
TZID:Europe/London
BEGIN:DAYLIGHT
TZOFFSETFROM:+0000
TZOFFSETTO:+0100
TZNAME:BST
DTSTART:20220327T010000
END:DAYLIGHT
BEGIN:STANDARD
TZOFFSETFROM:+0100
TZOFFSETTO:+0000
TZNAME:GMT
DTSTART:20221030T010000
END:STANDARD
BEGIN:DAYLIGHT
TZOFFSETFROM:+0000
TZOFFSETTO:+0100
TZNAME:BST
DTSTART:20230326T010000
END:DAYLIGHT
BEGIN:STANDARD
TZOFFSETFROM:+0100
TZOFFSETTO:+0000
TZNAME:GMT
DTSTART:20231029T010000
END:STANDARD
BEGIN:DAYLIGHT
TZOFFSETFROM:+0000
TZOFFSETTO:+0100
TZNAME:BST
DTSTART:20240331T010000
END:DAYLIGHT
BEGIN:STANDARD
TZOFFSETFROM:+0100
TZOFFSETTO:+0000
TZNAME:GMT
DTSTART:20241027T010000
END:STANDARD
END:VTIMEZONE
BEGIN:VEVENT
DTSTART;TZID=Europe/London:20231102T090000
DTEND;TZID=Europe/London:20231102T170000
DTSTAMP:20260422T135944
CREATED:20230621T140337Z
LAST-MODIFIED:20230621T140337Z
UID:1923-1698915600-1698944400@southamptonpropertyassociation.co.uk
SUMMARY:South Coast Commercial Property Show
DESCRIPTION:With the announcement of Solent Freeport\, the extension of the Southampton International Airport runway and changes of how people work\, there is a wealth of opportunities across the South Coast. We will hear from a number of property experts who will provide an update on trends in capital markets\, industrial & logistics\, offices\, retail & leisure and residential sectors as well from the councils\, all of which reinforced the importance of the South Coast in the UK’s wider economic performance.\nOur aim is to bring together the key stakeholders along the South Coast to promote and encourage inward investment and development in the region.\nThe event has quickly established itself as a must-attend event for anyone involved in the vibrant South Coast Commercial & Construction property market. This is a great networking opportunity to meet some of the key councils\, developers\, investors\, professional advisors and occupiers in our region. \nTo book your ticket please click on the link below\nwww.southcoastcps.co.uk \nAGENDA:\n9.00 – Registration – Teas & Coffee & Breakfast on arrival\n– Lanyard sponsor (Amiri Construction) and exhibition hall opens\n9.30 – Speed Networking\n10.15 – Panel 1 – Shaping the Future of Office Spaces: Perspectives from Landlords\, Investors\, Occupiers\, and Fitout Contractors\nQ&A – 10mins\n11.00 – Panel 2 – Unlocking the Pent-Up Demand: Exploring the Industrial Market Surge on the South Coast\n11.45 – Panel 3 – ESG in Real Estate: Navigating Greenwashing and Driving Genuine Environmental Impact\n12.30 – Lunch\n13.35 – Panel 4 – Real Estate and Supporting STEM on the South Coast: Identifying Pain Points and Building an Enabling Infrastructure\n14.15 – Panel 5 – The South Coast Residential Market: Navigating Demand\, Supply\, and Affordability Challenges\n14.45 – Economy Update\n15.15 – Coffee Break\n15.30 – Panel 6 – Council Update: Why the South Coast is the Place to Invest and Exploring Available Opportunities\n17.00 – Event Close \nIf you wish to showcase your business or find out what sponsorship opportunities are available\, email hello@southcoastcps.co.uk or call the team on 07899891119
URL:https://southamptonpropertyassociation.co.uk/event/south-coast-commercial-property-show/
LOCATION:Action Stations\, Historic Dockyard\, 19 College Road\, Portsmouth\, PO1 3LJ
END:VEVENT
BEGIN:VEVENT
DTSTART;TZID=Europe/London:20231102T180000
DTEND;TZID=Europe/London:20231102T210000
DTSTAMP:20260422T135944
CREATED:20231002T102144Z
LAST-MODIFIED:20231002T102942Z
UID:1966-1698948000-1698958800@southamptonpropertyassociation.co.uk
SUMMARY:Calling All Quizzers for the Annual Dutton Gregory Quiz and Curry Night
DESCRIPTION:If you know the answers to questions on The Chase\, Pointless or University Challenge then Dutton Gregory invite you to test your knowledge at their Annual Quiz and Curry Night in support of the Romsey Opportunity Group. \nTaking place on Thursday 2nd November between 6 – 9pm at the Mercure Winchester Wesssex Hotel\, Paternoster Road\, Winchester\, SO23 9LQ we invite teams of 6 at £150.00 per team \nPlease contact j.whettingsteel@duttongregory.co.uk or 0n 01962 624405 to book your team. \n \n 
URL:https://southamptonpropertyassociation.co.uk/event/calling-all-quizzers-for-the-annual-dutton-gregory-quiz-and-curry-night/
LOCATION:Mercure Wessex Winchester Hotel\, Paternoster Road\, Winchester\, Select a State or Province:\, SO23 9LQ\, United Kingdom
END:VEVENT
BEGIN:VEVENT
DTSTART;TZID=Europe/London:20231109T190000
DTEND;TZID=Europe/London:20231109T190000
DTSTAMP:20260422T135944
CREATED:20230301T175249Z
LAST-MODIFIED:20230808T100047Z
UID:1708-1699556400-1699556400@southamptonpropertyassociation.co.uk
SUMMARY:SPA Annual Charity Ball 2023
DESCRIPTION:Celebrate the 75th Anniversary of the Southampton Property Association in style at the Great Gatsby Charity Evening on Thursday 9th November. \nDress Code: Guests are encouraged to dress in their best 1920’s Glam. \n7pm arrival for drinks reception in Rubys \n8pm The Grand for a 3 course meal and words from the the SPA chair\, Emma Bartlett and our chosen charity Scratch. \nLive auction\, Rubys Band and at midnight dance the night away in Rubys until 2am. \n£750 for a table of 10\, individual tickets £80 \nTo reserve your space please contact Sarah Ward at SaWard@savills.com \nThere are several opportunities for sponsorship for this event\, if you would like to get involved please contact Sarah as above.
URL:https://southamptonpropertyassociation.co.uk/event/spa-annual-charity-ball-2023/
LOCATION:The Grand\, Terminus Terrace\, Southampton\, SO14 3AS\, United Kingdom
ATTACH;FMTTYPE=image/jpeg:https://southamptonpropertyassociation.co.uk/wp-content/uploads/2023/01/SPA-Event-1.jpg
END:VEVENT
BEGIN:VEVENT
DTSTART;TZID=Europe/London:20231124T130000
DTEND;TZID=Europe/London:20231124T150000
DTSTAMP:20260422T135944
CREATED:20230517T083734Z
LAST-MODIFIED:20230718T193626Z
UID:1856-1700830800-1700838000@southamptonpropertyassociation.co.uk
SUMMARY:November Friday Frolics
DESCRIPTION:We look forward to welcoming you to November’s Friday Frolics on Friday 24th November 2023 between 13.00 and 15.00 sponsored by Eddisons incorporating Daniells Harrison at Grand Cafe\, Terminus Terrace\, Southampton. \nFriday Frolics typically includes a business card draw. You may be invited to put your business card in a bucket to be entered into the draw. This is run by the event sponsor who may seek your permission to contact you following the event. \n \nEddisons are a leading firm of chartered surveyors\, working in fast moving and dynamic markets across the UK and overseas. Our people deliver expert advice and a comprehensive range of professional services to property owners and occupiers\, businesses and financial institutions\, with the benefit of local knowledge\, national coverage. \nIn early 2022\, Daniells Harrison Chartered Surveyors\, based in Fareham\, were acquired by Eddisons. The Daniells Harrison aspect of the business continues to be led by Chris Daniells and the wider management team\, with the added benefit of national coverage and expertise. Our Chartered Building Surveyors and General Practice Surveyors have expert knowledge and an unrivalled reputation\, operating across the South Coast and the Isle of Wight. \nAt Eddisons incorporating Daniells Harrison Chartered Surveyors\, we offer a broad range of services covering all aspects of domestic and commercial property build\, management\, maintenance and selling. We pride ourselves on our ability to deliver highly effective and innovative solutions for our clients.
URL:https://southamptonpropertyassociation.co.uk/event/november-friday-frolics/
LOCATION:The Grand\, Terminus Terrace\, Southampton\, SO14 3AS\, United Kingdom
ATTACH;FMTTYPE=image/jpeg:https://southamptonpropertyassociation.co.uk/wp-content/uploads/2023/01/Friday-Frolics2-1.jpg
END:VEVENT
BEGIN:VEVENT
DTSTART;TZID=Europe/London:20231129T150000
DTEND;TZID=Europe/London:20231129T180000
DTSTAMP:20260422T135944
CREATED:20231002T124423Z
LAST-MODIFIED:20231002T124847Z
UID:1975-1701270000-1701280800@southamptonpropertyassociation.co.uk
SUMMARY:Speed Networking for the next generation of property and construction professionals
DESCRIPTION:Following the success of our second event\, we are thrilled to announce the next instalment of the SPA and Omnia Consulting  Speed Networking event! This will be hosted in November 2023\, kindly sponsored by Dutton Gregory Solicitors. \nAs with our previous two events\, our Speed Networking is designed to be a relaxed and welcoming space for the next generation of property professionals to practice their networking skills and meet likeminded people from across the industry. Our tried-and-tested structured speed networking format has been a great success previously\, and our venue lends itself to a fantastic afternoon. Leadership Coach Astrid Davies is back once again to provide networking hints and tips\, which can be carried forward to future networking opportunities. \nWith arrivals from 3.05pm\, the event will start promptly at 3.15pm on Wednesday 29th November 2023 at the The Grand\, 1 South Western House\, Southampton\, SO14 3AS. The price of the ticket includes tea\, coffee\, and cake. \nSolent Speed Networking Tickets\, Wed 29 Nov 2023 at 15:05 | Eventbrite \nCome and join us to expand your network and meet fellow property and construction professionals from across the industry. \n 
URL:https://southamptonpropertyassociation.co.uk/event/speed-networking-for-the-next-generation-of-property-and-construction-professionals-2/
LOCATION:The Grand\, Terminus Terrace\, Southampton\, SO14 3AS\, United Kingdom
ATTACH;FMTTYPE=image/jpeg:https://southamptonpropertyassociation.co.uk/wp-content/uploads/2023/01/Speed-networking-1.jpg
END:VEVENT
END:VCALENDAR